BEGIN:VCALENDAR
VERSION:2.0
PRODID:-//Nova Scotia Building Officials Association - ECPv6.15.20//NONSGML v1.0//EN
CALSCALE:GREGORIAN
METHOD:PUBLISH
X-ORIGINAL-URL:https://nsboa.ca
X-WR-CALDESC:Events for Nova Scotia Building Officials Association
REFRESH-INTERVAL;VALUE=DURATION:PT1H
X-Robots-Tag:noindex
X-PUBLISHED-TTL:PT1H
BEGIN:VTIMEZONE
TZID:America/Halifax
BEGIN:DAYLIGHT
TZOFFSETFROM:-0400
TZOFFSETTO:-0300
TZNAME:ADT
DTSTART:20240310T060000
END:DAYLIGHT
BEGIN:STANDARD
TZOFFSETFROM:-0300
TZOFFSETTO:-0400
TZNAME:AST
DTSTART:20241103T050000
END:STANDARD
BEGIN:DAYLIGHT
TZOFFSETFROM:-0400
TZOFFSETTO:-0300
TZNAME:ADT
DTSTART:20250309T060000
END:DAYLIGHT
BEGIN:STANDARD
TZOFFSETFROM:-0300
TZOFFSETTO:-0400
TZNAME:AST
DTSTART:20251102T050000
END:STANDARD
BEGIN:DAYLIGHT
TZOFFSETFROM:-0400
TZOFFSETTO:-0300
TZNAME:ADT
DTSTART:20260308T060000
END:DAYLIGHT
BEGIN:STANDARD
TZOFFSETFROM:-0300
TZOFFSETTO:-0400
TZNAME:AST
DTSTART:20261101T050000
END:STANDARD
END:VTIMEZONE
BEGIN:VEVENT
DTSTART;VALUE=DATE:20250203
DTEND;VALUE=DATE:20250207
DTSTAMP:20260421T185711
CREATED:20241203T170724Z
LAST-MODIFIED:20241203T173756Z
UID:10000008-1738540800-1738886399@nsboa.ca
SUMMARY:9.36 Training Course - NSCC Truro Campus - Mindfulness Centre
DESCRIPTION:
URL:https://nsboa.ca/training-course/9-36-training-course-nscc-truro-campus-mindfulness-centre/
LOCATION:NSCC – Truro Campus\, 36 Arthur St\, Truro\, NS B2N 1X5\, Canada\, Arthur Street 36\, Truro\, Colchester County\, B2N 1X5\, Canada
CATEGORIES:Training Courses
ORGANIZER;CN="NSBOA":MAILTO:info@nsboa.ca
GEO:45.359414;-63.2873602
X-APPLE-STRUCTURED-LOCATION;VALUE=URI;X-ADDRESS=NSCC – Truro Campus 36 Arthur St Truro NS B2N 1X5 Canada Arthur Street 36 Truro Colchester County B2N 1X5 Canada;X-APPLE-RADIUS=500;X-TITLE=Arthur Street 36:geo:-63.2873602,45.359414
END:VEVENT
END:VCALENDAR