BEGIN:VCALENDAR
VERSION:2.0
PRODID:-//Nova Scotia Building Officials Association - ECPv6.15.20//NONSGML v1.0//EN
CALSCALE:GREGORIAN
METHOD:PUBLISH
X-WR-CALNAME:Nova Scotia Building Officials Association
X-ORIGINAL-URL:https://nsboa.ca
X-WR-CALDESC:Events for Nova Scotia Building Officials Association
REFRESH-INTERVAL;VALUE=DURATION:PT1H
X-Robots-Tag:noindex
X-PUBLISHED-TTL:PT1H
BEGIN:VTIMEZONE
TZID:America/Halifax
BEGIN:DAYLIGHT
TZOFFSETFROM:-0400
TZOFFSETTO:-0300
TZNAME:ADT
DTSTART:20230312T060000
END:DAYLIGHT
BEGIN:STANDARD
TZOFFSETFROM:-0300
TZOFFSETTO:-0400
TZNAME:AST
DTSTART:20231105T050000
END:STANDARD
BEGIN:DAYLIGHT
TZOFFSETFROM:-0400
TZOFFSETTO:-0300
TZNAME:ADT
DTSTART:20240310T060000
END:DAYLIGHT
BEGIN:STANDARD
TZOFFSETFROM:-0300
TZOFFSETTO:-0400
TZNAME:AST
DTSTART:20241103T050000
END:STANDARD
BEGIN:DAYLIGHT
TZOFFSETFROM:-0400
TZOFFSETTO:-0300
TZNAME:ADT
DTSTART:20250309T060000
END:DAYLIGHT
BEGIN:STANDARD
TZOFFSETFROM:-0300
TZOFFSETTO:-0400
TZNAME:AST
DTSTART:20251102T050000
END:STANDARD
END:VTIMEZONE
BEGIN:VEVENT
DTSTART;TZID=America/Halifax:20241118T080000
DTEND;TZID=America/Halifax:20241122T170000
DTSTAMP:20260421T094234
CREATED:20241009T195247Z
LAST-MODIFIED:20241010T140526Z
UID:10000002-1731916800-1732294800@nsboa.ca
SUMMARY:Nova Scotia Legal
DESCRIPTION:This course highlights the General Legal Process for Inspectors with emphasis on how the Building Code Act works including its relationship with the Nova Scotia Building Code. \nReferences Required: National Building Code 2015\, Nova Scotia Building Code Act and regulations.
URL:https://nsboa.ca/training-course/nova-scotia-legal/
LOCATION:NSBOA Office\, 127 Chain Lake Drive\, Halifax\, Nova Scotia\, B3S 1B3\, Canada
CATEGORIES:Training Courses
ORGANIZER;CN="NSBOA":MAILTO:info@nsboa.ca
GEO:44.6415066;-63.6614588
X-APPLE-STRUCTURED-LOCATION;VALUE=URI;X-ADDRESS=NSBOA Office 127 Chain Lake Drive Halifax Nova Scotia B3S 1B3 Canada;X-APPLE-RADIUS=500;X-TITLE=127 Chain Lake Drive:geo:-63.6614588,44.6415066
END:VEVENT
BEGIN:VEVENT
DTSTART;TZID=America/Halifax:20241021T080000
DTEND;TZID=America/Halifax:20241023T170000
DTSTAMP:20260421T094234
CREATED:20241002T175305Z
LAST-MODIFIED:20241127T222437Z
UID:10000001-1729497600-1729702800@nsboa.ca
SUMMARY:Communications
DESCRIPTION:Effective communication is one of the inherent responsibilities of being a successful Building Official. This 3-day course has been designed to help participants enhance their knowledge and skills to communicate with professionalism and respect\, listen to understand and speak to be heard. \nParticipants will discover practical tips and strategies to master their ability to contribute in a team-oriented environment and to excel during all interpersonal interactions. \nThis course is highly interactive and will draw on participants’ real-life situations and examples specific to the role of the Building Official. \nModule 1 – Communicating with Confidence \nModule 2 – Mastering Tough Conversations \nModule 3 – Resolving Interpersonal Conflict
URL:https://nsboa.ca/training-course/communications/
LOCATION:NSBOA Office\, 127 Chain Lake Drive\, Halifax\, Nova Scotia\, B3S 1B3\, Canada
CATEGORIES:Training Courses
ORGANIZER;CN="NSBOA":MAILTO:info@nsboa.ca
GEO:44.6415066;-63.6614588
X-APPLE-STRUCTURED-LOCATION;VALUE=URI;X-ADDRESS=NSBOA Office 127 Chain Lake Drive Halifax Nova Scotia B3S 1B3 Canada;X-APPLE-RADIUS=500;X-TITLE=127 Chain Lake Drive:geo:-63.6614588,44.6415066
END:VEVENT
END:VCALENDAR